BEGIN:VCALENDAR
VERSION:2.0
PRODID:Events Booking
BEGIN:VEVENT
UID:69e7392450747
SUMMARY:Prof. Dr. Maximiliane A. Schlenz:  Digitale Abformung – Die neues
 ten Entwicklungen im Überblick - Kurs: 1045
DESCRIPTION:*Preis für Assistenten:Innen\, angestellte Zahnärzte:Innen un
 d Mitarbeiter:Innen
LOCATION:Strandallee 73\, 23669 Timmendorfer Strand\, Deutschland
DTSTART:20250618T120000Z
DTEND:20250618T163000Z
DTSTAMP:20260421T104524Z
ORGANIZER;CN=IFG-Fortbildung.de:MAILTO:info@ifg-hl.de
GEO:54.000963;10.780059
X-APPLE-STRUCTURED-LOCATION;VALUE=URI;X-ADDRESS=Strandallee 73\, 23669 Timm
 endorfer Strand\, Deutschland;X-APPLE-RADIUS=72;X-TITLE=Maritim Seehotel T
 immendorfer Strand:54.000963;10.780059
END:VEVENT
END:VCALENDAR