BEGIN:VCALENDAR
VERSION:2.0
PRODID:Events Booking
BEGIN:VEVENT
UID:69e74e01b265e
SUMMARY:Dr. Detlef Hildebrand: „Implantologie-Update: Digitales Set-Up zu
 r Analyse\, Planung und Umsetzung komplexer Herausforderungen“ - Kurs: 1
 065
DESCRIPTION:*Preis für Assistenten:Innen\, angestellte Zahnärzte:Innen un
 d Mitarbeiter:Innen
LOCATION:Strandallee 73\, 23669 Timmendorfer Strand\, Deutschland
DTSTART:20250618T080000Z
DTEND:20250618T163000Z
DTSTAMP:20260421T121425Z
ORGANIZER;CN=IFG-Fortbildung.de:MAILTO:info@ifg-hl.de
GEO:54.000963;10.780059
X-APPLE-STRUCTURED-LOCATION;VALUE=URI;X-ADDRESS=Strandallee 73\, 23669 Timm
 endorfer Strand\, Deutschland;X-APPLE-RADIUS=72;X-TITLE=Maritim Seehotel T
 immendorfer Strand:54.000963;10.780059
END:VEVENT
END:VCALENDAR