BEGIN:VCALENDAR
VERSION:2.0
PRODID:Events Booking
BEGIN:VEVENT
UID:69e8c6913569e
SUMMARY:Prof. Dr. Bernd Klaiber: Frontzahnrestauration mit Komposit - Kurs:
  4026
DESCRIPTION:*Preis für Assistenten:Innen\, angestellte Zahnärzte:Innen un
 d Mitarbeiter:Innen
 Zahnärzte:Innen melden sich bitte hier unten an.Ass
 istenten:Innen\, angestellte Zahnärzte:Innen und Mitarbeiter:Innen nutzen
  bitte folgenden Link:
 Zur Anmeldung für Assistenten:Innen\, angestellt
 e Zahnärzte:Innen und Mitarbeiter:Innen &gt\;
LOCATION:Strandallee 73\, 23669 Timmendorfer Strand\, Deutschland
DTSTART:20260620T070000Z
DTEND:20260620T150000Z
DTSTAMP:20250714T065714Z
ORGANIZER;CN=IFG-Fortbildung.de:MAILTO:info@ifg-hl.de
GEO:54.000963;10.780059
X-APPLE-STRUCTURED-LOCATION;VALUE=URI;X-ADDRESS=Strandallee 73\, 23669 Timm
 endorfer Strand\, Deutschland;X-APPLE-RADIUS=72;X-TITLE=Maritim Seehotel T
 immendorfer Strand:54.000963;10.780059
END:VEVENT
END:VCALENDAR