BEGIN:VCALENDAR
VERSION:2.0
PRODID:Events Booking
BEGIN:VEVENT
UID:69e8c6a462d61
SUMMARY:Dr. Bernhard Saneke: Die Patientenberatung - Kurs: 3116
DESCRIPTION:Die Patientenberatung
 
 vermeidet unnötige Konflikte
 wei
 ß um seine Führungswirkung
 lebt in Harmonie mit Fremd- und Selbstbild
 
 erspart sich und anderen Missverständnisse
 findet in jedem Fall die r
 ichtigen Worte als Chef und als Arzt
 hat einen leichteren Zugang auch zu
  schwierigen Menschen
 kann besser empfehlen und kommunizieren
 und wird
  humorvoll akzeptieren\, dass man Menschen vermutlich nicht wirklich ände
 rn kann!
 
 Zahnärzte:Innen melden sich bitte hier unten an.Assistenten
 :Innen\, angestellte Zahnärzte:Innen und Mitarbeiter:Innen nutzen bitte f
 olgenden Link:
 Zur Anmeldung für Assistenten:Innen\, angestellte Zahnä
 rzte:Innen und Mitarbeiter:Innen &gt\;
 *Preis auch für Dentalhygieniker
 innen
LOCATION:Strandallee 73\, 23669 Timmendorfer Strand\, Deutschland
DTSTART:20260619T070000Z
DTEND:20260619T153000Z
DTSTAMP:20250714T080830Z
ORGANIZER;CN=IFG-Fortbildung.de:MAILTO:info@ifg-hl.de
GEO:54.000963;10.780059
X-APPLE-STRUCTURED-LOCATION;VALUE=URI;X-ADDRESS=Strandallee 73\, 23669 Timm
 endorfer Strand\, Deutschland;X-APPLE-RADIUS=72;X-TITLE=Maritim Seehotel T
 immendorfer Strand:54.000963;10.780059
END:VEVENT
END:VCALENDAR