BEGIN:VCALENDAR
VERSION:2.0
PRODID:Events Booking
BEGIN:VEVENT
UID:69e8c6a464086
SUMMARY:Betül Hanisch: „Die absolute Wohlfühlpraxis“ - Kurs: 4406
DESCRIPTION:*Preis für Assistenten:Innen\, angestellte Zahnärzte:Innen un
 d Mitarbeiter:Innen
 *Preis auch für Dentalhygienikerinnen
 Zahnärzte:
 Innen melden sich bitte hier unten an.Assistenten:Innen\, angestellte Zahn
 ärzte:Innen und Mitarbeiter:Innen nutzen bitte folgenden Link:
 Zur Anme
 ldung für Assistenten:Innen\, angestellte Zahnärzte:Innen und Mitarbeite
 r:Innen &gt\;
LOCATION:Strandallee 73\, 23669 Timmendorfer Strand\, Deutschland
DTSTART:20260620T073000Z
DTEND:20260620T153000Z
DTSTAMP:20250714T082140Z
ORGANIZER;CN=IFG-Fortbildung.de:MAILTO:info@ifg-hl.de
GEO:54.000963;10.780059
X-APPLE-STRUCTURED-LOCATION;VALUE=URI;X-ADDRESS=Strandallee 73\, 23669 Timm
 endorfer Strand\, Deutschland;X-APPLE-RADIUS=72;X-TITLE=Maritim Seehotel T
 immendorfer Strand:54.000963;10.780059
END:VEVENT
END:VCALENDAR