BEGIN:VCALENDAR
VERSION:2.0
PRODID:Events Booking
BEGIN:VEVENT
UID:69e8b2903362f
SUMMARY:Thilo Mann\, Klaus Schenkmann\, Alina Schlinzig: \"Praxismarketing\
 " - Kurs: 1176
DESCRIPTION:*Preis für Assistenten:Innen\, angestellte Zahnärzte:Innen un
 d Mitarbeiter:Innen
 Zur Anmeldung für Assistenten:Innen\, angestellte 
 Zahnärzte:Innen und Mitarbeiter:Innen &gt\;
LOCATION:Strandallee 73\, 23669 Timmendorfer Strand\, Deutschland
DTSTART:20260617T080000Z
DTEND:20260617T163000Z
DTSTAMP:20250807T095547Z
ORGANIZER;CN=IFG-Fortbildung.de:MAILTO:info@ifg-hl.de
GEO:54.000963;10.780059
X-APPLE-STRUCTURED-LOCATION;VALUE=URI;X-ADDRESS=Strandallee 73\, 23669 Timm
 endorfer Strand\, Deutschland;X-APPLE-RADIUS=72;X-TITLE=Maritim Seehotel T
 immendorfer Strand:54.000963;10.780059
END:VEVENT
END:VCALENDAR