BEGIN:VCALENDAR
VERSION:2.0
PRODID:Events Booking
BEGIN:VEVENT
UID:69e8ed914ec75
SUMMARY:Dr. Horst Kares und Dr. Anton Kares: „Die Obstruktive Schlafapnoe
  – leitliniengerechte Diagnose und Therapie mit Fokus auf Orofaziale Sch
 merzen und CMD“ - Kurs: 1276
DESCRIPTION:*Preis für Assistenten:Innen\, angestellte Zahnärzte:Innen un
 d Mitarbeiter:Innen
LOCATION:Strandallee 73\, 23669 Timmendorfer Strand\, Deutschland
DTSTART:20260617T080000Z
DTEND:20260617T163000Z
DTSTAMP:20250901T123016Z
ORGANIZER;CN=IFG-Fortbildung.de:MAILTO:info@ifg-hl.de
GEO:54.000963;10.780059
X-APPLE-STRUCTURED-LOCATION;VALUE=URI;X-ADDRESS=Strandallee 73\, 23669 Timm
 endorfer Strand\, Deutschland;X-APPLE-RADIUS=72;X-TITLE=Maritim Seehotel T
 immendorfer Strand:54.000963;10.780059
END:VEVENT
END:VCALENDAR