BEGIN:VCALENDAR
VERSION:2.0
PRODID:Events Booking
BEGIN:VEVENT
UID:69e74bd1e122b
SUMMARY:PD Dr. Dr. Keyvan Sagheb & Dr. Morse Bayadse: „Mein Einstieg in d
 ie digitale Implantologie. Alles relevante von der Chirurgie bis zur Proth
 etik“ - Kurs: 2065
DESCRIPTION:*Preis für Assistenten:Innen\, angestellte Zahnärzte:Innen un
 d Mitarbeiter:Innen
LOCATION:Strandallee 73\, 23669 Timmendorfer Strand\, Deutschland
DTSTART:20250619T073000Z
DTEND:20250619T160000Z
DTSTAMP:20260421T120505Z
ORGANIZER;CN=IFG-Fortbildung.de:MAILTO:info@ifg-hl.de
GEO:54.000963;10.780059
X-APPLE-STRUCTURED-LOCATION;VALUE=URI;X-ADDRESS=Strandallee 73\, 23669 Timm
 endorfer Strand\, Deutschland;X-APPLE-RADIUS=72;X-TITLE=Maritim Seehotel T
 immendorfer Strand:54.000963;10.780059
END:VEVENT
END:VCALENDAR